BEGIN:VCALENDAR
VERSION:2.0
PRODID:-//wp-events-plugin.com//7.2.3.1//EN
BEGIN:VEVENT
UID:3637@kundaliniyoga.org.uk
DTSTART;TZID=Europe/London:20240601T000000
DTEND;TZID=Europe/London:20240602T000000
DTSTAMP:20240327T151600Z
URL:https://www.kundaliniyoga.org.uk/events/conscious-comunication/
SUMMARY:Conscious Comunication
DESCRIPTION:WHO IS THIS COURSE FOR\nIF YOU ARE…\n• a meditation or yoga
  teacher\n• a therapist\, psychologist or health professional\n• an ed
 ucator or teacher\n• a leader\, an entrepreneur or an agent of change\n
 • a certified Kundalini Yoga teacher\n• looking to elevate the creativ
 e potential of your words\n\nThen Conscious Communication is for you!
CATEGORIES:Teacher Training
LOCATION:Crimson Orchard\, Curry Mallet \, Taunton \, TA3 6AW\, Dorset\, Un
 ited Kingdom
X-APPLE-STRUCTURED-LOCATION;VALUE=URI;X-ADDRESS=Curry Mallet \, Taunton \, 
 TA3 6AW\, Dorset\, United Kingdom;X-APPLE-RADIUS=100;X-TITLE=Crimson Orcha
 rd:geo:0,0
END:VEVENT
BEGIN:VTIMEZONE
TZID:Europe/London
X-LIC-LOCATION:Europe/London
BEGIN:DAYLIGHT
DTSTART:20240331T020000
TZOFFSETFROM:+0000
TZOFFSETTO:+0100
TZNAME:BST
END:DAYLIGHT
END:VTIMEZONE
END:VCALENDAR