BEGIN:VCALENDAR
VERSION:2.0
PRODID:-//wp-events-plugin.com//7.2.3.1//EN
BEGIN:VEVENT
UID:3849@kundaliniyoga.org.uk
DTSTART;TZID=Europe/London:20260408T093000
DTEND;TZID=Europe/London:20270407T104500
DTSTAMP:20260403T193929Z
URL:https://www.kundaliniyoga.org.uk/events/gentle-yoga-2/
SUMMARY:Gentle Yoga
DESCRIPTION:Gentle Yoga is a slower-paced Kundalini class with space to mov
 e\, rest\, and reconnect. Exercises are shorter\, with longer pauses in be
 tween to support ease and integration. All kriyas and meditations can be p
 racticed seated—either on a chair or on the floor—making the class acc
 essible and supportive for all.
CATEGORIES:Class
END:VEVENT
BEGIN:VTIMEZONE
TZID:Europe/London
X-LIC-LOCATION:Europe/London
BEGIN:DAYLIGHT
DTSTART:20260329T020000
TZOFFSETFROM:+0000
TZOFFSETTO:+0100
TZNAME:BST
END:DAYLIGHT
BEGIN:STANDARD
DTSTART:20261025T010000
TZOFFSETFROM:+0100
TZOFFSETTO:+0000
TZNAME:GMT
END:STANDARD
BEGIN:DAYLIGHT
DTSTART:20270328T020000
TZOFFSETFROM:+0000
TZOFFSETTO:+0100
TZNAME:BST
END:DAYLIGHT
END:VTIMEZONE
END:VCALENDAR