BEGIN:VCALENDAR
VERSION:2.0
PRODID:-//wp-events-plugin.com//7.2.3.1//EN
BEGIN:VEVENT
UID:3903@kundaliniyoga.org.uk
DTSTART;TZID=Europe/London:20260514T060000
DTEND;TZID=Europe/London:20270323T070000
DTSTAMP:20260416T130555Z
URL:https://www.kundaliniyoga.org.uk/events/jupiter-kriya-40-weeks-sadhana
 /
SUMMARY:Jupiter Kriya - 40 weeks sadhana
DESCRIPTION:\n\n\nJupiter Kriya: A Weekly Meditation for Prosperity\n62 min
 utes of deep meditation to challenge your mind\, overcome blockages\, and 
 create an attitude of abundance\, flow and clarity \n\nEVERY THURSDAY · 6
 :00 AM UK TIME \nStart: 14 May 2026 End: 11 February 2027\nLive Online Pra
 ctice · 100% Guided · Sessions will be recorded so you can do it at your
  own time\n\n\n\n\n\n\n\n\n\n\n\n\n\n\nSTEP INTO YOUR ABUNDANCE WITH THE P
 OWER OF JUPITER\nJoin us for a powerful weekly journey into Jupiter Kriya 
 - a transformative meditation practice designed to magnetise prosperity\, 
 clear subconscious blocks\, and strengthen your inner power. Every Thursda
 y morning\, rise early and align your psyche with the Universal electromag
 netic field.\nThis is more than meditation - it's a weekly energetic reset
  that builds your intuition\, resilience\, and personal magnetism.\n\n\n\n
 \n\n\n\n\n\n\n\n\n\n\nWhy Practice Jupiter Kriya?\n\n\n 	\nAttract Prosper
 ity on all levels\n\n 	\nBuild business and intuitive clarity with Jupiter
 ’s guidance\n\n 	\nClear deep-seated blocks from the subconscious\n\n 	\
 nStrengthen your nervous system and energetic field\n\n 	\nEnhance emotion
 al endurance and self-mastery\n\n 	\nCreate a harmonious relationship with
  your mind and ego\n\n 	\nCultivate a calm\, focused\, and intuitive mind\
 n\n 	\nUnlock unexpected opportunities\n\n 	\nAlign with your highest pote
 ntial\n\n\n🕒 WHEN &amp\; WHERE\n\n 	\nLive Every Thursday at 6:00 AM (U
 K)\n\n 	\nStarting: 14 May 2026\n\n 	\nEnding: 11 February 2027\n\n 	\nFor
 mat: Online via Zoom\n\n 	\nReplay available after each session.\n\n\n\n\n
 \n\n\n\n\n\n\n\n\n\n\n\n\n\n\n\n💛 INVESTMENT\n\n 	\nFree for High On Yo
 ga Members\n\n 	\n£65 for non-members (covers the full 9-month journey!)\
 n\n\n💬 WHO IS IT FOR?\n\n 	\nSpiritual seekers ready for deeper alignme
 nt\n\n 	\nEntrepreneurs &amp\; creatives looking to unlock prosperity\n\n 
 	\nAnyone wanting to strengthen their nervous system &amp\; intuition\n\n 
 	\nAnyone ready to overcome self-sabotage &amp\; break through limitations
 \n\n\n🌌 TUNE IN. PROSPER UP.\nThis is your invitation to connect\, elev
 ate\, and receive. Jupiter Kriya is a powerful practice that helps you anc
 hor new realities — from within. Show up every week and let the universe
  show up for you.\nREGISTRATION HERE: https://highonyoga.co.uk/jupiterkriy
 a\n\n\n\n
CATEGORIES:Other Event,Series
END:VEVENT
BEGIN:VTIMEZONE
TZID:Europe/London
X-LIC-LOCATION:Europe/London
BEGIN:DAYLIGHT
DTSTART:20260329T020000
TZOFFSETFROM:+0000
TZOFFSETTO:+0100
TZNAME:BST
END:DAYLIGHT
BEGIN:STANDARD
DTSTART:20261025T010000
TZOFFSETFROM:+0100
TZOFFSETTO:+0000
TZNAME:GMT
END:STANDARD
END:VTIMEZONE
END:VCALENDAR